BEGIN:VCALENDAR
VERSION:2.0
PRODID:spatie/icalendar-generator
DESCRIPTION:Events from VHS Burgenländische Volkshochschulen
X-WR-CALDESC:Events from VHS Burgenländische Volkshochschulen
REFRESH-INTERVAL;VALUE=DURATION:PT1440M
X-PUBLISHED-TTL:PT1440M
BEGIN:VTIMEZONE
TZID:Europe/Vienna
BEGIN:DAYLIGHT
DTSTART:20250330T020000Z
TZOFFSETFROM:+0100
TZOFFSETTO:+0200
END:DAYLIGHT
BEGIN:STANDARD
DTSTART:20251026T030000Z
TZOFFSETFROM:+0200
TZOFFSETTO:+0100
END:STANDARD
BEGIN:DAYLIGHT
DTSTART:20260329T020000Z
TZOFFSETFROM:+0100
TZOFFSETTO:+0200
END:DAYLIGHT
END:VTIMEZONE
BEGIN:VTIMEZONE
TZID:UTC
BEGIN:STANDARD
DTSTART:20250725T100058Z
TZOFFSETFROM:+0000
TZOFFSETTO:+0000
END:STANDARD
END:VTIMEZONE
BEGIN:VEVENT
UID:91-77
DTSTAMP:20260421T100058Z
SUMMARY:Das Testament
LOCATION:Oberwart VHS Schulgasse 17/3  Oberwart  7400
ORGANIZER;CN=Heike Steinmetz:MAILTO:h-steinmetz@vhs-burgenland.at
DTSTART;TZID=Europe/Vienna:20251119T180000
DTEND;TZID=Europe/Vienna:20251119T190000
X-ALT-DESC;FMTTYPE=TEXT/HTML:Dr. Yoel Halberstam ist ein 45-jähriger ortho
 doxer Jude. Als Historiker forscht er zum Thema Holocaust und leitet eine 
 Aufklärungskommission zu einem bis dahin vertuschten Massaker an 200 jüd
 ischen Zwangsarbeiter*innen am Ende des Zweiten Weltkrieges im fiktiven un
 garisch-österreichischen Grenzort Lendsdorf. Bei seinen Nachforschungen e
 ntdeckt er unter anderem\, dass seine Mutter Fania unter falscher Identit
 ät lebt und&amp;hellip\;
CATEGORIES:Film
URL;VALUE=URI:https://www.vhs-burgenland.at/wp_neu/mc-events/das-testament/
METHOD:PUBLISH
END:VEVENT
END:VCALENDAR