BEGIN:VCALENDAR
VERSION:2.0
PRODID:spatie/icalendar-generator
DESCRIPTION:Events from VHS Burgenländische Volkshochschulen
X-WR-CALDESC:Events from VHS Burgenländische Volkshochschulen
REFRESH-INTERVAL;VALUE=DURATION:PT1440M
X-PUBLISHED-TTL:PT1440M
BEGIN:VTIMEZONE
TZID:Europe/Vienna
BEGIN:STANDARD
DTSTART:20251026T030000Z
TZOFFSETFROM:+0200
TZOFFSETTO:+0100
END:STANDARD
BEGIN:DAYLIGHT
DTSTART:20260329T020000Z
TZOFFSETFROM:+0100
TZOFFSETTO:+0200
END:DAYLIGHT
BEGIN:STANDARD
DTSTART:20261025T030000Z
TZOFFSETFROM:+0200
TZOFFSETTO:+0100
END:STANDARD
END:VTIMEZONE
BEGIN:VTIMEZONE
TZID:UTC
BEGIN:STANDARD
DTSTART:20250725T112250Z
TZOFFSETFROM:+0000
TZOFFSETTO:+0000
END:STANDARD
END:VTIMEZONE
BEGIN:VEVENT
UID:485-451
DTSTAMP:20260421T112250Z
SUMMARY:Science Village Talk - Moleküle\, Mutationen\, Möglichkeiten. Wie
  moderne Genetik unsere Zukunft  gestaltet
LOCATION:Frauenkirchen - Rathaus Amtshausgasse 5  Frauenkirchen
ORGANIZER;CN=Petra Schneider:MAILTO:p-schneider@vhs-burgenland.at
DTSTART;TZID=Europe/Vienna:20260602T190000
DTEND;TZID=Europe/Vienna:20260602T200000
X-ALT-DESC;FMTTYPE=TEXT/HTML:Dr. Ulrich Elling zeigt\, wie innovative Genet
 ik - von CRISPR-Technologien bis zur SARS-CoV-2- Genomsequenzierung - Medi
 zin revolutioniert. Sein Vortrag gibt Einblick in neue Methoden\, die Kreb
 sforschung\, Präzisionsmedizin und Biotechnologie grundlegend verändern.
  Vortragender: Dr. Ulrich Elling Ort: Frauenkirchen - Rathaus/ Amtshausgas
 se 5 Termin: Di. 02.06.2026\, 19:00 Uhr Anmeldung: 0 21 72/ 88 06\, frauen
 kirchen@vhs-burgenland.at In Kooperation&amp;hellip\;
CATEGORIES:Science Village Talks
URL;VALUE=URI:https://www.vhs-burgenland.at/wp_neu/mc-events/science-villag
 e-talk-molekuele-mutationen-moeglichkeiten-wie-moderne-genetik-unsere-zuku
 nft-gestaltet/
METHOD:PUBLISH
END:VEVENT
END:VCALENDAR