BEGIN:VCALENDAR
VERSION:2.0
PRODID:spatie/icalendar-generator
DESCRIPTION:Events from VHS Burgenländische Volkshochschulen
X-WR-CALDESC:Events from VHS Burgenländische Volkshochschulen
REFRESH-INTERVAL;VALUE=DURATION:PT1440M
X-PUBLISHED-TTL:PT1440M
BEGIN:VTIMEZONE
TZID:Europe/Vienna
BEGIN:STANDARD
DTSTART:20251026T030000Z
TZOFFSETFROM:+0200
TZOFFSETTO:+0100
END:STANDARD
BEGIN:DAYLIGHT
DTSTART:20260329T020000Z
TZOFFSETFROM:+0100
TZOFFSETTO:+0200
END:DAYLIGHT
BEGIN:STANDARD
DTSTART:20261025T030000Z
TZOFFSETFROM:+0200
TZOFFSETTO:+0100
END:STANDARD
END:VTIMEZONE
BEGIN:VTIMEZONE
TZID:UTC
BEGIN:STANDARD
DTSTART:20250725T112203Z
TZOFFSETFROM:+0000
TZOFFSETTO:+0000
END:STANDARD
END:VTIMEZONE
BEGIN:VEVENT
UID:477-445
DTSTAMP:20260421T112203Z
SUMMARY:Science Village Talk - Kur- &amp;amp\; Wellness-Tradition vom antiken R
 om bis nach (Alt-)Österreich
LOCATION:Bad Sauerbrunn - Kurzentrum Hartiggasse 4  Bad Sauerbrunn  7202
ORGANIZER;CN=Petra Schneider:MAILTO:p-schneider@vhs-burgenland.at
DTSTART;TZID=Europe/Vienna:20260428T190000
DTEND;TZID=Europe/Vienna:20260428T200000
X-ALT-DESC;FMTTYPE=TEXT/HTML:Schwefel\, Salz\, Molke\, Wasser\, Licht und L
 uft - Kuren waren bereits im antiken Rom beliebt\, nicht nur der Gesundhei
 t wegen\, sondern auch um zu genießen und zu entspannen. Kurorte galten a
 ber auch als gesellschaftliche Drehscheibe vor allem für die High Society
 \, die sich im Rahmen des Kurens gerne vergnügte. Vortragende: Mag.a Dr.i
 n Daniela Angetter-Pfeiffer Ort:&amp;hellip\;
CATEGORIES:Science Village Talks
URL;VALUE=URI:https://www.vhs-burgenland.at/wp_neu/mc-events/science-villag
 e-talk-kur-wellness-tradition-vom-antiken-rom-bis-nach-alt-oesterreich/
METHOD:PUBLISH
END:VEVENT
END:VCALENDAR