BEGIN:VCALENDAR
VERSION:2.0
PRODID:spatie/icalendar-generator
DESCRIPTION:Events from VHS Burgenländische Volkshochschulen
X-WR-CALDESC:Events from VHS Burgenländische Volkshochschulen
REFRESH-INTERVAL;VALUE=DURATION:PT1440M
X-PUBLISHED-TTL:PT1440M
BEGIN:VTIMEZONE
TZID:Europe/Vienna
BEGIN:STANDARD
DTSTART:20251026T030000Z
TZOFFSETFROM:+0200
TZOFFSETTO:+0100
END:STANDARD
BEGIN:DAYLIGHT
DTSTART:20260329T020000Z
TZOFFSETFROM:+0100
TZOFFSETTO:+0200
END:DAYLIGHT
BEGIN:STANDARD
DTSTART:20261025T030000Z
TZOFFSETFROM:+0200
TZOFFSETTO:+0100
END:STANDARD
END:VTIMEZONE
BEGIN:VTIMEZONE
TZID:UTC
BEGIN:STANDARD
DTSTART:20250725T112109Z
TZOFFSETFROM:+0000
TZOFFSETTO:+0000
END:STANDARD
END:VTIMEZONE
BEGIN:VEVENT
UID:467-435
DTSTAMP:20260421T112109Z
SUMMARY:Kick &amp;amp\; Politik. Fußball-Weltmeisterschaften als Spielfeld von
  Politik und Profit
LOCATION:Güssing - Stadtsaal Hauptplatz 1  Güssing
ORGANIZER;CN=Petra Schneider:MAILTO:p-schneider@vhs-burgenland.at
DTSTART;TZID=Europe/Vienna:20260610T190000
DTEND;TZID=Europe/Vienna:20260610T200000
X-ALT-DESC;FMTTYPE=TEXT/HTML:Politpropaganda und Proteste\, Boykottaufrufe 
 und Korruption - Fußball-Weltmeisterschaften sind nicht nur ein Top-Event
  der Massen\, Megastars und Emotionen\, sondern als weltweit größtes Spo
 rtereignis eng mit der Außenpolitik verbunden. Autoritäre Regime nutzten
  das Spektakel\, um ihr Image aufzupolieren und von innenpolitischen Probl
 emen abzulenken. Diplomatische Spannungen\, ideologische Differenzen\, kri
 egerische Auseinandersetzungen\, Fragen der Menschenrechte und Wirtschafts
 krisen haben die&amp;hellip\;
CATEGORIES:Themenabend
URL;VALUE=URI:https://www.vhs-burgenland.at/wp_neu/mc-events/kick-politik-f
 ussball-weltmeisterschaften-als-spielfeld-von-politik-und-profit/
METHOD:PUBLISH
END:VEVENT
END:VCALENDAR