BEGIN:VCALENDAR
VERSION:2.0
PRODID:spatie/icalendar-generator
DESCRIPTION:Events from VHS Burgenländische Volkshochschulen
X-WR-CALDESC:Events from VHS Burgenländische Volkshochschulen
REFRESH-INTERVAL;VALUE=DURATION:PT1440M
X-PUBLISHED-TTL:PT1440M
BEGIN:VTIMEZONE
TZID:Europe/Vienna
BEGIN:STANDARD
DTSTART:20251026T030000Z
TZOFFSETFROM:+0200
TZOFFSETTO:+0100
END:STANDARD
BEGIN:DAYLIGHT
DTSTART:20260329T020000Z
TZOFFSETFROM:+0100
TZOFFSETTO:+0200
END:DAYLIGHT
END:VTIMEZONE
BEGIN:VTIMEZONE
TZID:UTC
BEGIN:STANDARD
DTSTART:20250725T110517Z
TZOFFSETFROM:+0000
TZOFFSETTO:+0000
END:STANDARD
END:VTIMEZONE
BEGIN:VEVENT
UID:459-427
DTSTAMP:20260421T110517Z
SUMMARY:Jugend &amp;amp\; Politik in Zeiten gesellschaftlicher Polarisierung
LOCATION:Oberwart - OHO Lisztgasse 12  Oberwart  7400
ORGANIZER;CN=Petra Schneider:MAILTO:p-schneider@vhs-burgenland.at
DTSTART;TZID=Europe/Vienna:20260321T110000
DTEND;TZID=Europe/Vienna:20260321T150000
X-ALT-DESC;FMTTYPE=TEXT/HTML:Aus dem Jugendbericht zur Demokratie und Betei
 ligung des Vereins Youth Empowerment Participation (YEP) geht hervor\, das
 s junge Menschen mehr politische Mitbestimmung fordern. Sie fühlen sich j
 edoch politisch nicht gehört und finden in den etablierten Parteien kaum 
 noch Anknüpfungspunkte. Es ist eine Generation\, die sehr individualisier
 t ist und ihre Informationen und ihre politischen Ansichten über soziale&amp;
 hellip\;
CATEGORIES:Tagung
URL;VALUE=URI:https://www.vhs-burgenland.at/wp_neu/mc-events/jugend-politik
 -in-zeiten-gesellschaftlicher-polarisierung/
METHOD:PUBLISH
END:VEVENT
END:VCALENDAR