BEGIN:VCALENDAR
VERSION:2.0
PRODID:spatie/icalendar-generator
DESCRIPTION:Events from VHS Burgenländische Volkshochschulen
X-WR-CALDESC:Events from VHS Burgenländische Volkshochschulen
REFRESH-INTERVAL;VALUE=DURATION:PT1440M
X-PUBLISHED-TTL:PT1440M
BEGIN:VTIMEZONE
TZID:Europe/Vienna
BEGIN:STANDARD
DTSTART:20251026T030000Z
TZOFFSETFROM:+0200
TZOFFSETTO:+0100
END:STANDARD
BEGIN:DAYLIGHT
DTSTART:20260329T020000Z
TZOFFSETFROM:+0100
TZOFFSETTO:+0200
END:DAYLIGHT
END:VTIMEZONE
BEGIN:VTIMEZONE
TZID:UTC
BEGIN:STANDARD
DTSTART:20250725T082147Z
TZOFFSETFROM:+0000
TZOFFSETTO:+0000
END:STANDARD
END:VTIMEZONE
BEGIN:VEVENT
UID:455-423
DTSTAMP:20260421T082147Z
SUMMARY:Demokratie in Ungarn auf dem Prüfstand?
LOCATION:Oberwart VHS Schulgasse 17/3  Oberwart  7400
ORGANIZER;CN=Petra Schneider:MAILTO:p-schneider@vhs-burgenland.at
DTSTART;TZID=Europe/Vienna:20260311T180000
DTEND;TZID=Europe/Vienna:20260311T190000
X-ALT-DESC;FMTTYPE=TEXT/HTML:Ungarn gilt seit Jahren als Prüfstein für di
 e Zukunft der Demokratie in Europa. Unter der Regierung von Viktor Orbán 
 und seiner Partei hat Ungarn eine Abkehr von liberal-demokratischen Standa
 rds vollzogen. Medienfreiheit\, Gewaltenteilung und Rechtsstaatlichkeit st
 ehen zunehmend unter Druck. Bedingt durch diese autoritäre Politik ist di
 e ungarische Gesellschaft tief gespalten und viele kehren ihrer Heimat den
 &amp;hellip\;
CATEGORIES:Themenabend
URL;VALUE=URI:https://www.vhs-burgenland.at/wp_neu/mc-events/demokratie-in-
 ungarn-auf-dem-pruefstand/
METHOD:PUBLISH
END:VEVENT
END:VCALENDAR