BEGIN:VCALENDAR
VERSION:2.0
PRODID:spatie/icalendar-generator
DESCRIPTION:Events from VHS Burgenländische Volkshochschulen
X-WR-CALDESC:Events from VHS Burgenländische Volkshochschulen
REFRESH-INTERVAL;VALUE=DURATION:PT1440M
X-PUBLISHED-TTL:PT1440M
BEGIN:VTIMEZONE
TZID:Europe/Vienna
BEGIN:STANDARD
DTSTART:20251026T030000Z
TZOFFSETFROM:+0200
TZOFFSETTO:+0100
END:STANDARD
BEGIN:DAYLIGHT
DTSTART:20260329T020000Z
TZOFFSETFROM:+0100
TZOFFSETTO:+0200
END:DAYLIGHT
BEGIN:STANDARD
DTSTART:20261025T030000Z
TZOFFSETFROM:+0200
TZOFFSETTO:+0100
END:STANDARD
END:VTIMEZONE
BEGIN:VTIMEZONE
TZID:UTC
BEGIN:STANDARD
DTSTART:20250725T123952Z
TZOFFSETFROM:+0000
TZOFFSETTO:+0000
END:STANDARD
END:VTIMEZONE
BEGIN:VEVENT
UID:401-369
DTSTAMP:20260421T123952Z
SUMMARY:Happy Minds - Warum wir ständig aneinander vorbeireden und wie wir
  das ändern können
LOCATION:Online
ORGANIZER;CN=Petra Schneider:MAILTO:p-schneider@vhs-burgenland.at
DTSTART;TZID=Europe/Vienna:20260609T180000
DTEND;TZID=Europe/Vienna:20260609T193000
X-ALT-DESC;FMTTYPE=TEXT/HTML:Man redet und trotzdem versteht der andere etw
 as ganz anderes. Missverständnisse gehören zu unserem Alltag\, doch das 
 muss nicht so bleiben! Themen in diesem Vortrag sind: Typische Missverstä
 ndnisse in der Kommunikation\, Vorstellung gängiger Kommunikationsmodelle
  (Eisbergmodell\, 4-Seiten-Modell)\, richtig Feedback geben (Ich-Botschaft
 en\, Sandwich-Modell)\, Kommunikation steuern und verstehen\, Einblick in 
 Persönlichkeitsstrukturen und deren Sprechverhalten (DISG). Vortragende: 
 Petra Steinscherer&amp;hellip\;
CATEGORIES:Webinar
URL;VALUE=URI:https://www.vhs-burgenland.at/wp_neu/mc-events/happy-minds-wa
 rum-wir-staendig-aneinander-vorbeireden-und-wie-wir-das-aendern-koennen/
METHOD:PUBLISH
END:VEVENT
END:VCALENDAR