BEGIN:VCALENDAR
VERSION:2.0
PRODID:spatie/icalendar-generator
DESCRIPTION:Events from VHS Burgenländische Volkshochschulen
X-WR-CALDESC:Events from VHS Burgenländische Volkshochschulen
REFRESH-INTERVAL;VALUE=DURATION:PT1440M
X-PUBLISHED-TTL:PT1440M
BEGIN:VTIMEZONE
TZID:Europe/Vienna
BEGIN:STANDARD
DTSTART:20251026T030000Z
TZOFFSETFROM:+0200
TZOFFSETTO:+0100
END:STANDARD
BEGIN:DAYLIGHT
DTSTART:20260329T020000Z
TZOFFSETFROM:+0100
TZOFFSETTO:+0200
END:DAYLIGHT
BEGIN:STANDARD
DTSTART:20261025T030000Z
TZOFFSETFROM:+0200
TZOFFSETTO:+0100
END:STANDARD
END:VTIMEZONE
BEGIN:VTIMEZONE
TZID:UTC
BEGIN:STANDARD
DTSTART:20250725T111929Z
TZOFFSETFROM:+0000
TZOFFSETTO:+0000
END:STANDARD
END:VTIMEZONE
BEGIN:VEVENT
UID:385-355
DTSTAMP:20260421T111929Z
SUMMARY:Digitalisierung rockt. Auch in der Basisbildung - Weiterbildung fü
 r Kursleiter*innen
LOCATION:Online
ORGANIZER;CN=Petra Schneider:MAILTO:p-schneider@vhs-burgenland.at
DTSTART;TZID=Europe/Vienna:20260520T170000
DTEND;TZID=Europe/Vienna:20260520T190000
X-ALT-DESC;FMTTYPE=TEXT/HTML:Die Digitalisierung hat den Bereich der Erwach
 senenbildung in den letzten Jahren absolut durchdrungen. Dennoch stehen ge
 rade Teilnehmer*innen mit Basisbildungsdefizit vor großen Herausforderung
 en\, wenn es darum geht\, den Alltag (Jobsuche\, Behördenwege) und digita
 le Unterrichtsaufgaben zu meistern. Dieser Workshop soll Kursleiter*innen 
 dazu motivieren\, die Themen Digitalisierung und künstliche Intelligenz a
 ktiv in den Unterricht einzubeziehen und Möglichkeiten vorstellen\,&amp;helli
 p\;
CATEGORIES:Webinar
URL;VALUE=URI:https://www.vhs-burgenland.at/wp_neu/mc-events/digitalisierun
 g-rockt-auch-in-der-basisbildung-weiterbildung-fuer-kursleiterinnen/
METHOD:PUBLISH
END:VEVENT
END:VCALENDAR