BEGIN:VCALENDAR
VERSION:2.0
PRODID:spatie/icalendar-generator
DESCRIPTION:Events from VHS Burgenländische Volkshochschulen
X-WR-CALDESC:Events from VHS Burgenländische Volkshochschulen
REFRESH-INTERVAL;VALUE=DURATION:PT1440M
X-PUBLISHED-TTL:PT1440M
BEGIN:VTIMEZONE
TZID:Europe/Vienna
BEGIN:STANDARD
DTSTART:20251026T030000Z
TZOFFSETFROM:+0200
TZOFFSETTO:+0100
END:STANDARD
BEGIN:DAYLIGHT
DTSTART:20260329T020000Z
TZOFFSETFROM:+0100
TZOFFSETTO:+0200
END:DAYLIGHT
BEGIN:STANDARD
DTSTART:20261025T030000Z
TZOFFSETFROM:+0200
TZOFFSETTO:+0100
END:STANDARD
END:VTIMEZONE
BEGIN:VTIMEZONE
TZID:UTC
BEGIN:STANDARD
DTSTART:20250725T112202Z
TZOFFSETFROM:+0000
TZOFFSETTO:+0000
END:STANDARD
END:VTIMEZONE
BEGIN:VEVENT
UID:369-339
DTSTAMP:20260421T112202Z
SUMMARY:Informationsabend „Du kannst was!\". Ihr Weg zum anerkannten Beru
 fsabschluss - Oberwart
LOCATION:Oberwart VHS Schulgasse 17/3  Oberwart  7400
ORGANIZER;CN=Heike Steinmetz:MAILTO:h-steinmetz@vhs-burgenland.at
DTSTART;TZID=Europe/Vienna:20260520T190000
DTEND;TZID=Europe/Vienna:20260520T200000
X-ALT-DESC;FMTTYPE=TEXT/HTML:Informieren Sie sich unverbindlich über das k
 ostenlose Anerkennungsverfahren zum Nachholen des Lehrabschlusses. Erfahre
 n Sie mehr über Möglichkeiten\, Voraussetzungen und den Ablauf. Anmeldun
 g: 0 33 52/ 34 525\, oberwart@vhs-burgenland.at
CATEGORIES:Information
URL;VALUE=URI:https://www.vhs-burgenland.at/wp_neu/mc-events/informationsab
 end-du-kannst-was-ihr-weg-zum-anerkannten-berufsabschluss-oberwart-2/
METHOD:PUBLISH
END:VEVENT
END:VCALENDAR