BEGIN:VCALENDAR
VERSION:2.0
PRODID:spatie/icalendar-generator
DESCRIPTION:Events from VHS Burgenländische Volkshochschulen
X-WR-CALDESC:Events from VHS Burgenländische Volkshochschulen
REFRESH-INTERVAL;VALUE=DURATION:PT1440M
X-PUBLISHED-TTL:PT1440M
BEGIN:VTIMEZONE
TZID:Europe/Vienna
BEGIN:DAYLIGHT
DTSTART:20250330T020000Z
TZOFFSETFROM:+0100
TZOFFSETTO:+0200
END:DAYLIGHT
BEGIN:STANDARD
DTSTART:20251026T030000Z
TZOFFSETFROM:+0200
TZOFFSETTO:+0100
END:STANDARD
BEGIN:DAYLIGHT
DTSTART:20260329T020000Z
TZOFFSETFROM:+0100
TZOFFSETTO:+0200
END:DAYLIGHT
END:VTIMEZONE
BEGIN:VTIMEZONE
TZID:UTC
BEGIN:STANDARD
DTSTART:20250725T105836Z
TZOFFSETFROM:+0000
TZOFFSETTO:+0000
END:STANDARD
END:VTIMEZONE
BEGIN:VEVENT
UID:201-185
DTSTAMP:20260421T105836Z
SUMMARY:Happy Minds - Mobbing ist nicht Ärgern! Wenn der Spaß zur Qual wi
 rd
LOCATION:Online
ORGANIZER;CN=Heike Steinmetz:MAILTO:h-steinmetz@vhs-burgenland.at
DTSTART;TZID=Europe/Vienna:20251104T180000
DTEND;TZID=Europe/Vienna:20251104T193000
X-ALT-DESC;FMTTYPE=TEXT/HTML:In diesem Vortrag erfahren Eltern\, wie schnel
 l harmloses Ärgern in Mobbing umschlagen kann und welche tiefgreifenden A
 uswirkungen dies auf Kinder und Jugendliche hat. Der Vortrag beleuchtet de
 n Unterschied zwischen Ärgern und Mobbing und zeigt auf\, wie Mobbing das
  Selbstwertgefühl\, das Vertrauen und das Wohlbefinden von Kindern nachha
 ltig beeinflussen kann. Wir gehen darauf ein\, welche Symptome&amp;hellip\;
CATEGORIES:Webinar
URL;VALUE=URI:https://www.vhs-burgenland.at/wp_neu/mc-events/happy-minds-mo
 bbing-ist-nicht-aergern-wenn-der-spass-zur-qual-wird/
METHOD:PUBLISH
END:VEVENT
END:VCALENDAR