BEGIN:VCALENDAR
VERSION:2.0
PRODID:spatie/icalendar-generator
DESCRIPTION:Events from VHS Burgenländische Volkshochschulen
X-WR-CALDESC:Events from VHS Burgenländische Volkshochschulen
REFRESH-INTERVAL;VALUE=DURATION:PT1440M
X-PUBLISHED-TTL:PT1440M
BEGIN:VTIMEZONE
TZID:Europe/Vienna
BEGIN:DAYLIGHT
DTSTART:20250330T020000Z
TZOFFSETFROM:+0100
TZOFFSETTO:+0200
END:DAYLIGHT
BEGIN:STANDARD
DTSTART:20251026T030000Z
TZOFFSETFROM:+0200
TZOFFSETTO:+0100
END:STANDARD
BEGIN:DAYLIGHT
DTSTART:20260329T020000Z
TZOFFSETFROM:+0100
TZOFFSETTO:+0200
END:DAYLIGHT
END:VTIMEZONE
BEGIN:VTIMEZONE
TZID:UTC
BEGIN:STANDARD
DTSTART:20250723T131303Z
TZOFFSETFROM:+0000
TZOFFSETTO:+0000
END:STANDARD
END:VTIMEZONE
BEGIN:VEVENT
UID:183-167
DTSTAMP:20260419T131303Z
SUMMARY:Von Rivalen zu Verbündeten. Geschwister und ihr ewiges Duell
LOCATION:Online
ORGANIZER;CN=Heike Steinmetz:MAILTO:h-steinmetz@vhs-burgenland.at
DTSTART;TZID=Europe/Vienna:20251120T180000
DTEND;TZID=Europe/Vienna:20251120T200000
X-ALT-DESC;FMTTYPE=TEXT/HTML:Wer zwei oder mehr Kinder hat\, kennt das täg
 liche Auf und Ab zwischen Lachen\, Streiten und Verhandeln. In diesem Webi
 nar erfahren Eltern\, wie sie mit Zoff und Eifersucht umgehen können\, oh
 ne sich selbst dabei zu verlieren. Alltagsnah\, ehrlich und mit praxiserpr
 obten Ideen. Für mehr Miteinander und weniger „Mama\, der hat schon wie
 der …!“ Vortragende: Nathalie&amp;hellip\;
CATEGORIES:Webinar
URL;VALUE=URI:https://www.vhs-burgenland.at/wp_neu/mc-events/von-rivalen-zu
 -verbuendeten-geschwister-und-ihr-ewiges-duell/
METHOD:PUBLISH
END:VEVENT
END:VCALENDAR