BEGIN:VCALENDAR
VERSION:2.0
PRODID:spatie/icalendar-generator
DESCRIPTION:Events from VHS Burgenländische Volkshochschulen
X-WR-CALDESC:Events from VHS Burgenländische Volkshochschulen
REFRESH-INTERVAL;VALUE=DURATION:PT1440M
X-PUBLISHED-TTL:PT1440M
BEGIN:VTIMEZONE
TZID:Europe/Vienna
BEGIN:DAYLIGHT
DTSTART:20250330T020000Z
TZOFFSETFROM:+0100
TZOFFSETTO:+0200
END:DAYLIGHT
BEGIN:STANDARD
DTSTART:20251026T030000Z
TZOFFSETFROM:+0200
TZOFFSETTO:+0100
END:STANDARD
BEGIN:DAYLIGHT
DTSTART:20260329T020000Z
TZOFFSETFROM:+0100
TZOFFSETTO:+0200
END:DAYLIGHT
END:VTIMEZONE
BEGIN:VTIMEZONE
TZID:UTC
BEGIN:STANDARD
DTSTART:20250725T105350Z
TZOFFSETFROM:+0000
TZOFFSETTO:+0000
END:STANDARD
END:VTIMEZONE
BEGIN:VEVENT
UID:179-163
DTSTAMP:20260421T105350Z
SUMMARY:Workshopreihe „Wissen\, was ich kann“. Meine Fähigkeiten und K
 ompetenzen feststellen und nutzen
LOCATION:Online
ORGANIZER;CN=Heike Steinmetz:MAILTO:h-steinmetz@vhs-burgenland.at
DTSTART;TZID=Europe/Vienna:20251113T090000
DTEND;TZID=Europe/Vienna:20251113T130000
X-ALT-DESC;FMTTYPE=TEXT/HTML:Im Zuge der vier Workshoptermine\, die im Einz
 el- oder Gruppensetting stattfinden können\, legen wir den Fokus auf Ihre
  Biografie und erarbeiten Ihr ganz persönliches Kompetenzprofil. Das Verf
 ahren basiert auf dem Schweizerischen Qualifikationsprogramm CH-Q und schl
 ießt mit einem Zertifikat ab. Beginn: Do. 13.11.2025\, 9:00 - 13:00 Uhr (
 4 x\, 20 UE) Anmeldung: 0 21 72/ 88&amp;hellip\;
CATEGORIES:Workshop
URL;VALUE=URI:https://www.vhs-burgenland.at/wp_neu/mc-events/workshopreihe-
 wissen-was-ich-kann-meine-faehigkeiten-und-kompetenzen-feststellen-und-nut
 zen/
METHOD:PUBLISH
END:VEVENT
END:VCALENDAR