BEGIN:VCALENDAR
VERSION:2.0
PRODID:spatie/icalendar-generator
DESCRIPTION:Events from VHS Burgenländische Volkshochschulen
X-WR-CALDESC:Events from VHS Burgenländische Volkshochschulen
REFRESH-INTERVAL;VALUE=DURATION:PT1440M
X-PUBLISHED-TTL:PT1440M
BEGIN:VTIMEZONE
TZID:Europe/Vienna
BEGIN:DAYLIGHT
DTSTART:20250330T020000Z
TZOFFSETFROM:+0100
TZOFFSETTO:+0200
END:DAYLIGHT
BEGIN:STANDARD
DTSTART:20251026T030000Z
TZOFFSETFROM:+0200
TZOFFSETTO:+0100
END:STANDARD
BEGIN:DAYLIGHT
DTSTART:20260329T020000Z
TZOFFSETFROM:+0100
TZOFFSETTO:+0200
END:DAYLIGHT
END:VTIMEZONE
BEGIN:VTIMEZONE
TZID:UTC
BEGIN:STANDARD
DTSTART:20250725T095653Z
TZOFFSETFROM:+0000
TZOFFSETTO:+0000
END:STANDARD
END:VTIMEZONE
BEGIN:VEVENT
UID:129-109
DTSTAMP:20260421T095653Z
SUMMARY:Landhaus Eisenstadt. Geschichte(n) eines Hauses
LOCATION:Eisenstadt - Landhaus alt Europaplatz 1  Eisenstadt
ORGANIZER;CN=Heike Steinmetz:MAILTO:h-steinmetz@vhs-burgenland.at
DTSTART;TZID=Europe/Vienna:20251017T140000
DTEND;TZID=Europe/Vienna:20251017T160000
X-ALT-DESC;FMTTYPE=TEXT/HTML:Bei dieser Themenführung bekommen Sie Informa
 tionen über die Entstehung des Burgenlandes und die Geschichte des Landha
 uses als Sitz der Landesregierung\, des Landtages und der Landesverwaltung
  - beginnend von den Jahren 1919 und 1921 über die Brüche in den Jahren 
 1933/34 und 1938 bis hin zur Wiederentstehung nach 1945. Der Rundgang füh
 rt durch das Gebäude mit&amp;hellip\;
CATEGORIES:General
URL;VALUE=URI:https://www.vhs-burgenland.at/wp_neu/mc-events/landhaus-eisen
 stadt-geschichten-eines-hauses/
METHOD:PUBLISH
END:VEVENT
END:VCALENDAR