BEGIN:VCALENDAR
VERSION:2.0
PRODID:spatie/icalendar-generator
DESCRIPTION:Events from VHS Burgenländische Volkshochschulen
X-WR-CALDESC:Events from VHS Burgenländische Volkshochschulen
REFRESH-INTERVAL;VALUE=DURATION:PT1440M
X-PUBLISHED-TTL:PT1440M
BEGIN:VTIMEZONE
TZID:Europe/Vienna
BEGIN:STANDARD
DTSTART:20251026T030000Z
TZOFFSETFROM:+0200
TZOFFSETTO:+0100
END:STANDARD
BEGIN:DAYLIGHT
DTSTART:20260329T020000Z
TZOFFSETFROM:+0100
TZOFFSETTO:+0200
END:DAYLIGHT
BEGIN:STANDARD
DTSTART:20261025T030000Z
TZOFFSETFROM:+0200
TZOFFSETTO:+0100
END:STANDARD
END:VTIMEZONE
BEGIN:VTIMEZONE
TZID:UTC
BEGIN:STANDARD
DTSTART:20250725T142405Z
TZOFFSETFROM:+0000
TZOFFSETTO:+0000
END:STANDARD
END:VTIMEZONE
BEGIN:VEVENT
UID:487-453
DTSTAMP:20260421T142405Z
SUMMARY:Science Village Talk - Der astronomische Feiertag 2026. Sonnenfinst
 ernis trifft Perseiden
LOCATION:Deutsch Kaltenbrunn - Gemeinde Marktplatz 1  Deutsch Kaltenbrunn  
 7572
ORGANIZER;CN=Petra Schneider:MAILTO:p-schneider@vhs-burgenland.at
DTSTART;TZID=Europe/Vienna:20260609T190000
DTEND;TZID=Europe/Vienna:20260609T200000
X-ALT-DESC;FMTTYPE=TEXT/HTML:Am 12. August 2026 erwartet Österreich ein ei
 nzigartiges Himmelsschauspiel. Zum Sonnenuntergang verdunkelt sich die Son
 ne zu fast 90 Prozent - die größte Verfinsterung seit 1999. Genau an die
 sem Tag erreichen auch die Perseiden\, einer der beliebtesten Sternschnupp
 en-Schauer des Jahres\, ihr Maximum. Und das unter perfekten Bedingungen\,
  denn der Neumond stört nicht beim Beobachten. Von der&amp;hellip\;
CATEGORIES:Science Village Talks
URL;VALUE=URI:https://www.vhs-burgenland.at/wp_neu/mc-events/science-villag
 e-talk-der-astronomische-feiertag-2026-sonnenfinsternis-trifft-perseiden/
METHOD:PUBLISH
END:VEVENT
END:VCALENDAR