BEGIN:VCALENDAR
VERSION:2.0
PRODID:spatie/icalendar-generator
DESCRIPTION:Events from VHS Burgenländische Volkshochschulen
X-WR-CALDESC:Events from VHS Burgenländische Volkshochschulen
REFRESH-INTERVAL;VALUE=DURATION:PT1440M
X-PUBLISHED-TTL:PT1440M
BEGIN:VTIMEZONE
TZID:Europe/Vienna
BEGIN:STANDARD
DTSTART:20251026T030000Z
TZOFFSETFROM:+0200
TZOFFSETTO:+0100
END:STANDARD
BEGIN:DAYLIGHT
DTSTART:20260329T020000Z
TZOFFSETFROM:+0100
TZOFFSETTO:+0200
END:DAYLIGHT
BEGIN:STANDARD
DTSTART:20261025T030000Z
TZOFFSETFROM:+0200
TZOFFSETTO:+0100
END:STANDARD
END:VTIMEZONE
BEGIN:VTIMEZONE
TZID:UTC
BEGIN:STANDARD
DTSTART:20250725T142504Z
TZOFFSETFROM:+0000
TZOFFSETTO:+0000
END:STANDARD
END:VTIMEZONE
BEGIN:VEVENT
UID:481-447
DTSTAMP:20260421T142504Z
SUMMARY:Science Village Talk - Innere Uhren. Ihre Bedeutung und wie man sie
  in Takt hält
LOCATION:Günseck - Vereinshaus Günseck 35  Günseck  7435
ORGANIZER;CN=Petra Schneider:MAILTO:p-schneider@vhs-burgenland.at
DTSTART;TZID=Europe/Vienna:20260519T190000
DTEND;TZID=Europe/Vienna:20260519T200000
X-ALT-DESC;FMTTYPE=TEXT/HTML:„Ein Jedes hat seine Zeit“- das gilt auch 
 für die Prozesse in unserem Körper\, vom Schlaf bis zur Zellteilung\, so
 wie für die Lebewesen in unserer Umwelt. In diesem Vortrag erfahren Sie d
 en aktuellen wissenschaftlichen Stand zu sonn- und mondlicht gesteuerten R
 hythmen\, zu inneren Uhren und Kalendern\, zu Taktgebern und zur zeitliche
 n Individualität (Chronotypen). Vortragende: Univ.-Prof.in&amp;hellip\;
CATEGORIES:Science Village Talks
URL;VALUE=URI:https://www.vhs-burgenland.at/wp_neu/mc-events/science-villag
 e-talk-innere-uhren-ihre-bedeutung-und-wie-man-sie-in-takt-haelt/
METHOD:PUBLISH
END:VEVENT
END:VCALENDAR