BEGIN:VCALENDAR
VERSION:2.0
PRODID:spatie/icalendar-generator
DESCRIPTION:Events from VHS Burgenländische Volkshochschulen
X-WR-CALDESC:Events from VHS Burgenländische Volkshochschulen
REFRESH-INTERVAL;VALUE=DURATION:PT1440M
X-PUBLISHED-TTL:PT1440M
BEGIN:VTIMEZONE
TZID:Europe/Vienna
BEGIN:STANDARD
DTSTART:20251026T030000Z
TZOFFSETFROM:+0200
TZOFFSETTO:+0100
END:STANDARD
BEGIN:DAYLIGHT
DTSTART:20260329T020000Z
TZOFFSETFROM:+0100
TZOFFSETTO:+0200
END:DAYLIGHT
BEGIN:STANDARD
DTSTART:20261025T030000Z
TZOFFSETFROM:+0200
TZOFFSETTO:+0100
END:STANDARD
END:VTIMEZONE
BEGIN:VTIMEZONE
TZID:UTC
BEGIN:STANDARD
DTSTART:20250725T125259Z
TZOFFSETFROM:+0000
TZOFFSETTO:+0000
END:STANDARD
END:VTIMEZONE
BEGIN:VEVENT
UID:471-439
DTSTAMP:20260421T125259Z
SUMMARY:Studienreise Trencín/ Slowakei. Europäische Kulturhauptstadt 2026
LOCATION:
ORGANIZER;CN=Petra Schneider:MAILTO:p-schneider@vhs-burgenland.at
DTSTART;TZID=Europe/Vienna;VALUE=DATE:20260514
DTEND;TZID=Europe/Vienna;VALUE=DATE:20260518
X-ALT-DESC;FMTTYPE=TEXT/HTML:Die diesjährige Studienreise der Roma Volksho
 chschule Burgenland führt uns nach Trencín in die Slowakei - eine Stadt\
 , in der Geschichte\, Vielfalt und Gegenwart miteinander in Dialog treten.
  Wie bei jeder unserer Studienreisen steht der Austausch mit Vertreter*inn
 en von Roma-Organisationen im Mittelpunkt. Gemeinsam möchten wir uns übe
 r die aktuelle Situation der Roma in der Slowakei informieren\,&amp;hellip\;
CATEGORIES:Exkursion
URL;VALUE=URI:https://www.vhs-burgenland.at/wp_neu/mc-events/studienreise-t
 rencin-slowakei-europaeische-kulturhauptstadt-2026/
METHOD:PUBLISH
END:VEVENT
END:VCALENDAR