BEGIN:VCALENDAR
VERSION:2.0
PRODID:spatie/icalendar-generator
DESCRIPTION:Events from VHS Burgenländische Volkshochschulen
X-WR-CALDESC:Events from VHS Burgenländische Volkshochschulen
REFRESH-INTERVAL;VALUE=DURATION:PT1440M
X-PUBLISHED-TTL:PT1440M
BEGIN:VTIMEZONE
TZID:Europe/Vienna
BEGIN:STANDARD
DTSTART:20251026T030000Z
TZOFFSETFROM:+0200
TZOFFSETTO:+0100
END:STANDARD
BEGIN:DAYLIGHT
DTSTART:20260329T020000Z
TZOFFSETFROM:+0100
TZOFFSETTO:+0200
END:DAYLIGHT
BEGIN:STANDARD
DTSTART:20261025T030000Z
TZOFFSETFROM:+0200
TZOFFSETTO:+0100
END:STANDARD
END:VTIMEZONE
BEGIN:VTIMEZONE
TZID:UTC
BEGIN:STANDARD
DTSTART:20250725T125114Z
TZOFFSETFROM:+0000
TZOFFSETTO:+0000
END:STANDARD
END:VTIMEZONE
BEGIN:VEVENT
UID:449-417
DTSTAMP:20260421T125114Z
SUMMARY:Mythos Reichsautobahn. Zwangsarbeit und Leidenswege von Romnja und 
  Roma aus dem Burgenland
LOCATION:Oberwart - OHO Lisztgasse 12  Oberwart  7400
ORGANIZER;CN=Petra Schneider:MAILTO:p-schneider@vhs-burgenland.at
DTSTART;TZID=Europe/Vienna:20260619T190000
DTEND;TZID=Europe/Vienna:20260619T200000
X-ALT-DESC;FMTTYPE=TEXT/HTML:Neu entdeckte historische Dokumente belegen\, 
 dass Romnja und Roma aus dem Burgenland in den Jahren 1940/41 gemeinsam mi
 t Facharbeitern und vorwiegend polnischen Zwangsarbeiter*innen beim Bau vo
 n Autobahnbrücken in Vorchdorf zu Zwangsarbeit unter unmenschlichen Bedin
 gungen gezwungen wurden. Während einige Betroffene im März 1941 vorüber
 gehend in ihre Herkunftsorte - etwa Unterwart oder Unterschützen - zurüc
 kkehren durften\, wurden&amp;hellip\;
CATEGORIES:Themenabend
URL;VALUE=URI:https://www.vhs-burgenland.at/wp_neu/mc-events/mythos-reichsa
 utobahn-zwangsarbeit-und-leidenswege-von-romnja-und-roma-aus-dem-burgenlan
 d/
METHOD:PUBLISH
END:VEVENT
END:VCALENDAR