BEGIN:VCALENDAR
VERSION:2.0
PRODID:spatie/icalendar-generator
DESCRIPTION:Events from VHS Burgenländische Volkshochschulen
X-WR-CALDESC:Events from VHS Burgenländische Volkshochschulen
REFRESH-INTERVAL;VALUE=DURATION:PT1440M
X-PUBLISHED-TTL:PT1440M
BEGIN:VTIMEZONE
TZID:Europe/Vienna
BEGIN:STANDARD
DTSTART:20251026T030000Z
TZOFFSETFROM:+0200
TZOFFSETTO:+0100
END:STANDARD
BEGIN:DAYLIGHT
DTSTART:20260329T020000Z
TZOFFSETFROM:+0100
TZOFFSETTO:+0200
END:DAYLIGHT
BEGIN:STANDARD
DTSTART:20261025T030000Z
TZOFFSETFROM:+0200
TZOFFSETTO:+0100
END:STANDARD
END:VTIMEZONE
BEGIN:VTIMEZONE
TZID:UTC
BEGIN:STANDARD
DTSTART:20250725T142309Z
TZOFFSETFROM:+0000
TZOFFSETTO:+0000
END:STANDARD
END:VTIMEZONE
BEGIN:VEVENT
UID:441-409
DTSTAMP:20260421T142309Z
SUMMARY:Jüdische Spuren &amp;amp\; Gedenkstätten in Niederösterreich und Tsc
 hechien. Exkursion nach Horn und Šafov (Schaffa)
LOCATION:
ORGANIZER;CN=Petra Schneider:MAILTO:p-schneider@vhs-burgenland.at
DTSTART;TZID=Europe/Vienna:20260628T080000
DTEND;TZID=Europe/Vienna:20260628T200000
X-ALT-DESC;FMTTYPE=TEXT/HTML:Seit der Vernichtung jüdischen Lebens durch d
 en Nationalsozialismus blieben vielerorts nur noch Gebäude\, Denkmäler u
 nd Friedhöfe als stumme Zeugen jüdischer Gemeinden. Diese Exkursion füh
 rt zu Örtlichkeiten\, die nun als Erinnerungs- und Begegnungsorte gestalt
 et sind. Die jüdische Gemeinde Horn gründete den Friedhof 1873\, auf dem
  sich rund 110 Grabstellen befinden. Bemerkenswert ist die kleine neugotis
 che Aufbewahrungshalle.&amp;hellip\;
CATEGORIES:Exkursion
URL;VALUE=URI:https://www.vhs-burgenland.at/wp_neu/mc-events/juedische-spur
 en-gedenkstaetten-in-niederoesterreich-und-tschechien-exkursion-nach-horn-
 und-safov-schaffa/
METHOD:PUBLISH
END:VEVENT
END:VCALENDAR