BEGIN:VCALENDAR
VERSION:2.0
PRODID:spatie/icalendar-generator
DESCRIPTION:Events from VHS Burgenländische Volkshochschulen
X-WR-CALDESC:Events from VHS Burgenländische Volkshochschulen
REFRESH-INTERVAL;VALUE=DURATION:PT1440M
X-PUBLISHED-TTL:PT1440M
BEGIN:VTIMEZONE
TZID:Europe/Vienna
BEGIN:STANDARD
DTSTART:20251026T030000Z
TZOFFSETFROM:+0200
TZOFFSETTO:+0100
END:STANDARD
BEGIN:DAYLIGHT
DTSTART:20260329T020000Z
TZOFFSETFROM:+0100
TZOFFSETTO:+0200
END:DAYLIGHT
BEGIN:STANDARD
DTSTART:20261025T030000Z
TZOFFSETFROM:+0200
TZOFFSETTO:+0100
END:STANDARD
END:VTIMEZONE
BEGIN:VTIMEZONE
TZID:UTC
BEGIN:STANDARD
DTSTART:20250725T141838Z
TZOFFSETFROM:+0000
TZOFFSETTO:+0000
END:STANDARD
END:VTIMEZONE
BEGIN:VEVENT
UID:439-407
DTSTAMP:20260421T141838Z
SUMMARY:Neuer Jüdischer Friedhof am Zentralfriedhof Wien
LOCATION:Wien - Zentralfriedhof Simmeringer Hauptstraße 246  Wien  1110
ORGANIZER;CN=Petra Schneider:MAILTO:p-schneider@vhs-burgenland.at
DTSTART;TZID=Europe/Vienna:20260426T140000
DTEND;TZID=Europe/Vienna:20260426T160000
X-ALT-DESC;FMTTYPE=TEXT/HTML:Dieser im Jahr 1917 eröffnete Friedhof spiege
 lt die Zeitgeschichte anschaulich wider. Bei diesem Rundgang besuchen wir 
 Grabreihen Exhumierter vom jüdischen Friedhof Währing\, Urnengräber mit
  der Asche KZ-Ermordeter\, ein Denkmal für geschändete Thorarollen\, abe
 r auch prominente Jüdinnen und Juden späterer Jahre\, wie zum Beispiel d
 ie Autorin des Kinderbuches „Das kleine Ich bin Ich“ Mira Lobe. Männe
 r&amp;hellip\;
CATEGORIES:Rundgang
URL;VALUE=URI:https://www.vhs-burgenland.at/wp_neu/mc-events/neuer-juedisch
 er-friedhof-am-zentralfriedhof-wien/
METHOD:PUBLISH
END:VEVENT
END:VCALENDAR