BEGIN:VCALENDAR
VERSION:2.0
PRODID:spatie/icalendar-generator
DESCRIPTION:Events from VHS Burgenländische Volkshochschulen
X-WR-CALDESC:Events from VHS Burgenländische Volkshochschulen
REFRESH-INTERVAL;VALUE=DURATION:PT1440M
X-PUBLISHED-TTL:PT1440M
BEGIN:VTIMEZONE
TZID:Europe/Vienna
BEGIN:STANDARD
DTSTART:20251026T030000Z
TZOFFSETFROM:+0200
TZOFFSETTO:+0100
END:STANDARD
BEGIN:DAYLIGHT
DTSTART:20260329T020000Z
TZOFFSETFROM:+0100
TZOFFSETTO:+0200
END:DAYLIGHT
BEGIN:STANDARD
DTSTART:20261025T030000Z
TZOFFSETFROM:+0200
TZOFFSETTO:+0100
END:STANDARD
END:VTIMEZONE
BEGIN:VTIMEZONE
TZID:UTC
BEGIN:STANDARD
DTSTART:20250725T125242Z
TZOFFSETFROM:+0000
TZOFFSETTO:+0000
END:STANDARD
END:VTIMEZONE
BEGIN:VEVENT
UID:435-403
DTSTAMP:20260421T125242Z
SUMMARY:Jüdische Spuren in Kobersdorf - Rundgang zur Geschichte einer ehem
 aligen jüdischen Gemeinde
LOCATION:Kobersdorf - Synagoge Schlossgasse 25  Kobersdorf  7332
ORGANIZER;CN=Petra Schneider:MAILTO:p-schneider@vhs-burgenland.at
DTSTART;TZID=Europe/Vienna:20260508T140000
DTEND;TZID=Europe/Vienna:20260508T160000
X-ALT-DESC;FMTTYPE=TEXT/HTML:Der Rundgang thematisiert die Geschichte der j
 üdischen Gemeinde Kobersdorf\, die mit der nationalsozialistischen Machte
 rgreifung ausgelöscht wurde. Wir werden Stationen ehemals jüdischen Lebe
 ns aufsuchen und den jüdischen Friedhof besuchen. Männer benötigen eine
  Kopfbedeckung! Begleitung: Mag. Johannes Reiss Treffpunkt: Kobersdorf - S
 ynagoge/ Schlossgasse 25 Termin: Fr. 08.05.2026\, 14:00 - 16:00 Uhr Beitra
 g: € 16\,00 Anmeldung: 0 26&amp;hellip\;
CATEGORIES:Rundgang
URL;VALUE=URI:https://www.vhs-burgenland.at/wp_neu/mc-events/juedische-spur
 en-in-kobersdorf-rundgang-zur-geschichte-einer-ehemaligen-juedischen-gemei
 nde/
METHOD:PUBLISH
END:VEVENT
END:VCALENDAR