BEGIN:VCALENDAR
VERSION:2.0
PRODID:spatie/icalendar-generator
DESCRIPTION:Events from VHS Burgenländische Volkshochschulen
X-WR-CALDESC:Events from VHS Burgenländische Volkshochschulen
REFRESH-INTERVAL;VALUE=DURATION:PT1440M
X-PUBLISHED-TTL:PT1440M
BEGIN:VTIMEZONE
TZID:Europe/Vienna
BEGIN:STANDARD
DTSTART:20251026T030000Z
TZOFFSETFROM:+0200
TZOFFSETTO:+0100
END:STANDARD
BEGIN:DAYLIGHT
DTSTART:20260329T020000Z
TZOFFSETFROM:+0100
TZOFFSETTO:+0200
END:DAYLIGHT
BEGIN:STANDARD
DTSTART:20261025T030000Z
TZOFFSETFROM:+0200
TZOFFSETTO:+0100
END:STANDARD
END:VTIMEZONE
BEGIN:VTIMEZONE
TZID:UTC
BEGIN:STANDARD
DTSTART:20250725T125206Z
TZOFFSETFROM:+0000
TZOFFSETTO:+0000
END:STANDARD
END:VTIMEZONE
BEGIN:VEVENT
UID:417-385
DTSTAMP:20260421T125206Z
SUMMARY:\"Am Steinhof\". Zur Geschichte der NS-Medizinverbrechen in Wien
LOCATION:Wien - Gedenkstätte Steinhof Baumgartner Höhe 1\, Pavillon V  Wi
 en  1145
ORGANIZER;CN=Petra Schneider:MAILTO:p-schneider@vhs-burgenland.at
DTSTART;TZID=Europe/Vienna:20260619T150000
DTEND;TZID=Europe/Vienna:20260619T170000
X-ALT-DESC;FMTTYPE=TEXT/HTML:Das 1907 eröffnete Sanatorium wurde nach den 
 Plänen von Otto Wagner errichtet und besteht aus sechzig Pavillons. In de
 r Zeit des Nationalsozialismus wurde die Heil- und Pflegeanstalt „Am Ste
 inhof“ zum Wiener Zentrum der nationalsozialistischen Tötungsmedizin\, 
 die mindestens 7.500 Patient*innen das Leben kosten sollte. Unter den Tode
 sopfern befanden sich 800 Kinder\, die in der sogenannten Kinderfachabtei
 lung „Am&amp;hellip\;
CATEGORIES:Rundgang
URL;VALUE=URI:https://www.vhs-burgenland.at/wp_neu/mc-events/am-steinhof-zu
 r-geschichte-der-ns-medizinverbrechen-in-wien/
METHOD:PUBLISH
END:VEVENT
END:VCALENDAR