BEGIN:VCALENDAR
VERSION:2.0
PRODID:spatie/icalendar-generator
DESCRIPTION:Events from VHS Burgenländische Volkshochschulen
X-WR-CALDESC:Events from VHS Burgenländische Volkshochschulen
REFRESH-INTERVAL;VALUE=DURATION:PT1440M
X-PUBLISHED-TTL:PT1440M
BEGIN:VTIMEZONE
TZID:Europe/Vienna
BEGIN:STANDARD
DTSTART:20251026T030000Z
TZOFFSETFROM:+0200
TZOFFSETTO:+0100
END:STANDARD
BEGIN:DAYLIGHT
DTSTART:20260329T020000Z
TZOFFSETFROM:+0100
TZOFFSETTO:+0200
END:DAYLIGHT
BEGIN:STANDARD
DTSTART:20261025T030000Z
TZOFFSETFROM:+0200
TZOFFSETTO:+0100
END:STANDARD
END:VTIMEZONE
BEGIN:VTIMEZONE
TZID:UTC
BEGIN:STANDARD
DTSTART:20250725T142815Z
TZOFFSETFROM:+0000
TZOFFSETTO:+0000
END:STANDARD
END:VTIMEZONE
BEGIN:VEVENT
UID:407-375
DTSTAMP:20260421T142815Z
SUMMARY:Happy Minds - KI &amp;amp\; Kinderschutz
LOCATION:Online
ORGANIZER;CN=Petra Schneider:MAILTO:p-schneider@vhs-burgenland.at
DTSTART;TZID=Europe/Vienna:20260707T180000
DTEND;TZID=Europe/Vienna:20260707T193000
X-ALT-DESC;FMTTYPE=TEXT/HTML:Im Vortrag \"KI &amp;amp\; Kinderschutz\" erfahren
  Sie\, wie Künstliche Intelligenz den Alltag von Kindern bzw. Familien be
 einflusst - von sozialen Medien\, Deep Fakes bis zu Lernplattformen - und 
 welche Chancen und Risiken damit verbunden sind. Wir geben einen kleinen 
 Überblick über die derzeit verfügbaren Tools und bieten Ihnen praktisch
 e Tipps\, wie Sie die Tools für&amp;hellip\;
CATEGORIES:Webinar
URL;VALUE=URI:https://www.vhs-burgenland.at/wp_neu/mc-events/happy-minds-ki
 -kinderschutz/
METHOD:PUBLISH
END:VEVENT
END:VCALENDAR