BEGIN:VCALENDAR
VERSION:2.0
PRODID:spatie/icalendar-generator
DESCRIPTION:Events from VHS Burgenländische Volkshochschulen
X-WR-CALDESC:Events from VHS Burgenländische Volkshochschulen
REFRESH-INTERVAL;VALUE=DURATION:PT1440M
X-PUBLISHED-TTL:PT1440M
BEGIN:VTIMEZONE
TZID:Europe/Vienna
BEGIN:DAYLIGHT
DTSTART:20250330T020000Z
TZOFFSETFROM:+0100
TZOFFSETTO:+0200
END:DAYLIGHT
BEGIN:STANDARD
DTSTART:20251026T030000Z
TZOFFSETFROM:+0200
TZOFFSETTO:+0100
END:STANDARD
END:VTIMEZONE
BEGIN:VTIMEZONE
TZID:UTC
BEGIN:STANDARD
DTSTART:20250725T095926Z
TZOFFSETFROM:+0000
TZOFFSETTO:+0000
END:STANDARD
END:VTIMEZONE
BEGIN:VEVENT
UID:195-179
DTSTAMP:20260421T095926Z
SUMMARY:Happy Minds - Das Imposter-Syndrom. Wenn Selbstzweifel den Erfolg 
 überschatten
LOCATION:Online
ORGANIZER;CN=Heike Steinmetz:MAILTO:h-steinmetz@vhs-burgenland.at
DTSTART;TZID=Europe/Vienna:20250923T180000
DTEND;TZID=Europe/Vienna:20250923T193000
X-ALT-DESC;FMTTYPE=TEXT/HTML:Zweifel an den eigenen Fähigkeiten gehören z
 um Leben dazu. Doch was\, wenn diese Zweifel so übermächtig werden\, das
 s sie Erfolge schmälern\, innere Unsicherheit verstärken und das Gefühl
  hinterlassen\, nicht gut genug zu sein? Das Imposter-Syndrom beschreibt g
 enau diesen Zustand: Die Angst\, nicht gut genug zu sein – trotz klarer 
 Erfolge und Anerkennung. In diesem Vortrag&amp;hellip\;
CATEGORIES:Webinar
URL;VALUE=URI:https://www.vhs-burgenland.at/wp_neu/mc-events/happy-minds-da
 s-imposter-syndrom-wenn-selbstzweifel-den-erfolg-ueberschatten/
METHOD:PUBLISH
END:VEVENT
END:VCALENDAR